BEGIN:VCALENDAR
METHOD:PUBLISH
VERSION:2.0
CALSCALE:GREGORIAN
BEGIN:VTIMEZONE
TZID:Europe/Paris
BEGIN:DAYLIGHT
TZOFFSETFROM:+0100
RRULE:FREQ=YEARLY;BYMONTH=3;BYDAY=-1SU
DTSTART:19810329T020000
TZNAME:UTC+2
TZOFFSETTO:+0200
END:DAYLIGHT
BEGIN:STANDARD
TZOFFSETFROM:+0200
RRULE:FREQ=YEARLY;BYMONTH=10;BYDAY=-1SU
DTSTART:19961027T030000
TZNAME:UTC+1
TZOFFSETTO:+0100
END:STANDARD
END:VTIMEZONE
BEGIN:VEVENT
UID:5081
DTSTART;TZID=Europe/Paris:20250306T130000
DTEND;TZID=Europe/Paris:20250306T143000
DTSTAMP;TZID=Europe/Paris:20260419T145755
LOCATION:Nanterre
SUMMARY:Webinaire - La sororité comme levier d'empowerment !
DESCRIPTION:Le concept de sororité, souvent méconnu ou sous-estimé, prend aujourd'hui une dimension nouvelle, au cœur des enjeux de l'égalité et de l'empowerment des femmes. Dans un contexte où les femmes sont encore confrontées à des inégalités de genre, la sororité...
URL;VALUE=URI:https://www.ellesbougent.com/agenda/calendrier/webinaire-la-sororite-comme-levier-empowerment-5081/
SEQUENCE:0
END:VEVENT
END:VCALENDAR
