BEGIN:VCALENDAR
METHOD:PUBLISH
VERSION:2.0
CALSCALE:GREGORIAN
BEGIN:VTIMEZONE
TZID:Europe/Paris
BEGIN:DAYLIGHT
TZOFFSETFROM:+0100
RRULE:FREQ=YEARLY;BYMONTH=3;BYDAY=-1SU
DTSTART:19810329T020000
TZNAME:UTC+2
TZOFFSETTO:+0200
END:DAYLIGHT
BEGIN:STANDARD
TZOFFSETFROM:+0200
RRULE:FREQ=YEARLY;BYMONTH=10;BYDAY=-1SU
DTSTART:19961027T030000
TZNAME:UTC+1
TZOFFSETTO:+0100
END:STANDARD
END:VTIMEZONE
BEGIN:VEVENT
UID:6415
DTSTART;TZID=Europe/Paris:20251118T093000
DTEND;TZID=Europe/Paris:20251118T124000
DTSTAMP;TZID=Europe/Paris:20260424T134035
LOCATION:Magny-les-Hameaux
SUMMARY:Viste de l'atelier MRO Maintenance\, Repair & Overhaul Safran Aircraft Engines
DESCRIPTION:✈️ Plongez au cœur de la maintenance aéronautique ! 🔧   Nous vous invitons à une matinée immersive pour découvrir les coulisses d'un site de MRO (Maintenance, Repair &amp; Overhaul) ✨   🕘 Programme de la visite : 🥐 09h30 – Accueil...
URL;VALUE=URI:https://www.ellesbougent.com/agenda/calendrier/viste-de-atelier-mro-maintenance-repair-overhaul-safran-aircraft-engines-6415/
SEQUENCE:0
END:VEVENT
END:VCALENDAR
