BEGIN:VCALENDAR
METHOD:PUBLISH
VERSION:2.0
CALSCALE:GREGORIAN
BEGIN:VTIMEZONE
TZID:Europe/Paris
BEGIN:DAYLIGHT
TZOFFSETFROM:+0100
RRULE:FREQ=YEARLY;BYMONTH=3;BYDAY=-1SU
DTSTART:19810329T020000
TZNAME:UTC+2
TZOFFSETTO:+0200
END:DAYLIGHT
BEGIN:STANDARD
TZOFFSETFROM:+0200
RRULE:FREQ=YEARLY;BYMONTH=10;BYDAY=-1SU
DTSTART:19961027T030000
TZNAME:UTC+1
TZOFFSETTO:+0100
END:STANDARD
END:VTIMEZONE
BEGIN:VEVENT
UID:6390
DTSTART;TZID=Europe/Paris:20251117T090000
DTEND;TZID=Europe/Paris:20251117T170000
DTSTAMP;TZID=Europe/Paris:20260424T131346
LOCATION:Fontanil Cornillon
SUMMARY:Visites\, Rencontres et Échanges Inspirants !
DESCRIPTION:Vous pensez que l'industrie est monotone, poussiéreuse, ou dépassée ? Détrompez-vous ! Nous vous invitons à une immersion exclusive au cœur de notre industrie, là où technologie de pointe et innovation sont à l'ordre du jour. Au programme : ✨...
URL;VALUE=URI:https://www.ellesbougent.com/agenda/calendrier/visites-rencontres-et-echanges-inspirants-6390/
SEQUENCE:0
END:VEVENT
END:VCALENDAR
