BEGIN:VCALENDAR
METHOD:PUBLISH
VERSION:2.0
CALSCALE:GREGORIAN
BEGIN:VTIMEZONE
TZID:Europe/Paris
BEGIN:DAYLIGHT
TZOFFSETFROM:+0100
RRULE:FREQ=YEARLY;BYMONTH=3;BYDAY=-1SU
DTSTART:19810329T020000
TZNAME:UTC+2
TZOFFSETTO:+0200
END:DAYLIGHT
BEGIN:STANDARD
TZOFFSETFROM:+0200
RRULE:FREQ=YEARLY;BYMONTH=10;BYDAY=-1SU
DTSTART:19961027T030000
TZNAME:UTC+1
TZOFFSETTO:+0100
END:STANDARD
END:VTIMEZONE
BEGIN:VEVENT
UID:6722
DTSTART;TZID=Europe/Paris:20251118T090000
DTEND;TZID=Europe/Paris:20251118T120000
DTSTAMP;TZID=Europe/Paris:20260424T132448
LOCATION:Puget-sur-Argens
SUMMARY:Visite d'usine pour un groupe de jeunes filles
DESCRIPTION:Bonjour, Dans le cadre de notre engagement pour la promotion des métiers techniques auprès des jeunes filles, nous invitons un groupe de jeunes filles à venir visiter nos ateliers de production (découverte de notre ligne d'extrusion, présentation des différents...
URL;VALUE=URI:https://www.ellesbougent.com/agenda/calendrier/visite-usine-pour-un-groupe-de-jeunes-filles-6722/
SEQUENCE:0
END:VEVENT
END:VCALENDAR
