BEGIN:VCALENDAR
METHOD:PUBLISH
VERSION:2.0
CALSCALE:GREGORIAN
BEGIN:VTIMEZONE
TZID:Europe/Paris
BEGIN:DAYLIGHT
TZOFFSETFROM:+0100
RRULE:FREQ=YEARLY;BYMONTH=3;BYDAY=-1SU
DTSTART:19810329T020000
TZNAME:UTC+2
TZOFFSETTO:+0200
END:DAYLIGHT
BEGIN:STANDARD
TZOFFSETFROM:+0200
RRULE:FREQ=YEARLY;BYMONTH=10;BYDAY=-1SU
DTSTART:19961027T030000
TZNAME:UTC+1
TZOFFSETTO:+0100
END:STANDARD
END:VTIMEZONE
BEGIN:VEVENT
UID:6000
DTSTART;TZID=Europe/Paris:20251120T090000
DTEND;TZID=Europe/Paris:20251120T113000
DTSTAMP;TZID=Europe/Paris:20260424T131741
LOCATION:FLORANGE
SUMMARY:visite d'un site industriel spécialisé dans l'aéronautique
DESCRIPTION:présentation du Groupe visite des ateliers temps d'échange avec divers profils féminins (opératrices, ingénieures, HSE, team leader, ...)  Si vous êtes intéressé.e par cette action, merci de prendre contact directement avec la délégation régionale à...
URL;VALUE=URI:https://www.ellesbougent.com/agenda/calendrier/visite-un-site-industriel-specialise-dans-aeronautique-6000/
SEQUENCE:0
END:VEVENT
END:VCALENDAR
