BEGIN:VCALENDAR
METHOD:PUBLISH
VERSION:2.0
CALSCALE:GREGORIAN
BEGIN:VTIMEZONE
TZID:Europe/Paris
BEGIN:DAYLIGHT
TZOFFSETFROM:+0100
RRULE:FREQ=YEARLY;BYMONTH=3;BYDAY=-1SU
DTSTART:19810329T020000
TZNAME:UTC+2
TZOFFSETTO:+0200
END:DAYLIGHT
BEGIN:STANDARD
TZOFFSETFROM:+0200
RRULE:FREQ=YEARLY;BYMONTH=10;BYDAY=-1SU
DTSTART:19961027T030000
TZNAME:UTC+1
TZOFFSETTO:+0100
END:STANDARD
END:VTIMEZONE
BEGIN:VEVENT
UID:6356
DTSTART;TZID=Europe/Paris:20251118T134500
DTEND;TZID=Europe/Paris:20251118T163000
DTSTAMP;TZID=Europe/Paris:20260424T133128
LOCATION:Toulouse
SUMMARY:Visite Thales Alenia Space Toulouse
DESCRIPTION: Présentation du groupe Thales et de ses activités en amphithéâtre Visite du Fablab (Avec l'imprimante 3D) Visite des labo (méca, galvanoplastie etc.) Visite d'une station sol Visite de la salle blanche 
URL;VALUE=URI:https://www.ellesbougent.com/agenda/calendrier/visite-thales-alenia-space-toulouse-6356/
SEQUENCE:0
END:VEVENT
END:VCALENDAR
