BEGIN:VCALENDAR
METHOD:PUBLISH
VERSION:2.0
CALSCALE:GREGORIAN
BEGIN:VTIMEZONE
TZID:Europe/Paris
BEGIN:DAYLIGHT
TZOFFSETFROM:+0100
RRULE:FREQ=YEARLY;BYMONTH=3;BYDAY=-1SU
DTSTART:19810329T020000
TZNAME:UTC+2
TZOFFSETTO:+0200
END:DAYLIGHT
BEGIN:STANDARD
TZOFFSETFROM:+0200
RRULE:FREQ=YEARLY;BYMONTH=10;BYDAY=-1SU
DTSTART:19961027T030000
TZNAME:UTC+1
TZOFFSETTO:+0100
END:STANDARD
END:VTIMEZONE
BEGIN:VEVENT
UID:5993
DTSTART;TZID=Europe/Paris:20251118T090000
DTEND;TZID=Europe/Paris:20251118T120000
DTSTAMP;TZID=Europe/Paris:20260424T131435
LOCATION:Carros (06510)
SUMMARY:Visite Laboratoire de Recherche
DESCRIPTION:Le laboratoire de SBM Offshore situé à Carros, dans les Alpes-Maritimes, teste et développe des matériaux et équipements spéciaux pour construire et améliorer les systèmes d'énergie en mer. Lors des portes ouvertes de notre laboratoire R&amp;D, il y aura...
URL;VALUE=URI:https://www.ellesbougent.com/agenda/calendrier/visite-laboratoire-de-recherche-5993/
SEQUENCE:0
END:VEVENT
END:VCALENDAR
