BEGIN:VCALENDAR
METHOD:PUBLISH
VERSION:2.0
CALSCALE:GREGORIAN
BEGIN:VTIMEZONE
TZID:Europe/Paris
BEGIN:DAYLIGHT
TZOFFSETFROM:+0100
RRULE:FREQ=YEARLY;BYMONTH=3;BYDAY=-1SU
DTSTART:19810329T020000
TZNAME:UTC+2
TZOFFSETTO:+0200
END:DAYLIGHT
BEGIN:STANDARD
TZOFFSETFROM:+0200
RRULE:FREQ=YEARLY;BYMONTH=10;BYDAY=-1SU
DTSTART:19961027T030000
TZNAME:UTC+1
TZOFFSETTO:+0100
END:STANDARD
END:VTIMEZONE
BEGIN:VEVENT
UID:6392
DTSTART;TZID=Europe/Paris:20251120T090000
DTEND;TZID=Europe/Paris:20251120T120000
DTSTAMP;TZID=Europe/Paris:20260424T131851
LOCATION:Anteuil
SUMMARY:Visite entreprise (musée\, laboratoire\, BE\, ateliers)
DESCRIPTION:Accueil à 9h au musée de l'entreprise à Anteuil pour découvrir le groupe Delfingen (histoire, produits, culture, métiers...). Puis présentation par des marraines de leurs parcours et de leur service au fur et à mesure : bureau d'études, laboratoire,...
URL;VALUE=URI:https://www.ellesbougent.com/agenda/calendrier/visite-entreprise-musee-laboratoire-be-ateliers-6392/
SEQUENCE:0
END:VEVENT
END:VCALENDAR
