BEGIN:VCALENDAR
METHOD:PUBLISH
VERSION:2.0
CALSCALE:GREGORIAN
BEGIN:VTIMEZONE
TZID:Europe/Paris
BEGIN:DAYLIGHT
TZOFFSETFROM:+0100
RRULE:FREQ=YEARLY;BYMONTH=3;BYDAY=-1SU
DTSTART:19810329T020000
TZNAME:UTC+2
TZOFFSETTO:+0200
END:DAYLIGHT
BEGIN:STANDARD
TZOFFSETFROM:+0200
RRULE:FREQ=YEARLY;BYMONTH=10;BYDAY=-1SU
DTSTART:19961027T030000
TZNAME:UTC+1
TZOFFSETTO:+0100
END:STANDARD
END:VTIMEZONE
BEGIN:VEVENT
UID:6360
DTSTART;TZID=Europe/Paris:20251126T084500
DTEND;TZID=Europe/Paris:20251126T123000
DTSTAMP;TZID=Europe/Paris:20260424T133322
LOCATION:SEMEAC
SUMMARY:Visite du site et témoignages métiers de nos Marraines/Relais
DESCRIPTION:Chères collégiennes/lycéennes, chers/chères professeur(e)s, venez decouvrir notre site industriel Alstom à Séméac, au pied des Pyrénées, au travers d'une visite, et nos métiers passionants du ferroviaire ! Vous aurez également l'opportunité de...
URL;VALUE=URI:https://www.ellesbougent.com/agenda/calendrier/visite-du-site-et-temoignages-metiers-de-nos-marraines-relais-6360/
SEQUENCE:0
END:VEVENT
END:VCALENDAR
