BEGIN:VCALENDAR
METHOD:PUBLISH
VERSION:2.0
CALSCALE:GREGORIAN
BEGIN:VTIMEZONE
TZID:Europe/Paris
BEGIN:DAYLIGHT
TZOFFSETFROM:+0100
RRULE:FREQ=YEARLY;BYMONTH=3;BYDAY=-1SU
DTSTART:19810329T020000
TZNAME:UTC+2
TZOFFSETTO:+0200
END:DAYLIGHT
BEGIN:STANDARD
TZOFFSETFROM:+0200
RRULE:FREQ=YEARLY;BYMONTH=10;BYDAY=-1SU
DTSTART:19961027T030000
TZNAME:UTC+1
TZOFFSETTO:+0100
END:STANDARD
END:VTIMEZONE
BEGIN:VEVENT
UID:6156
DTSTART;TZID=Europe/Paris:20251120T090000
DTEND;TZID=Europe/Paris:20251120T120000
DTSTAMP;TZID=Europe/Paris:20260424T131221
LOCATION:Saint-Benoit
SUMMARY:Visite du site de SAFRAN 
DESCRIPTION:Venez découvrir un secteur innovant en pleine croissance. Vous pourrez rencontrer des marraines, découvrir le monde de l'infrarouge, tester les produits et visiter l'atelier de fabrication des miroirs du plus grand télescope optique du monde. Pour toute demande...
URL;VALUE=URI:https://www.ellesbougent.com/agenda/calendrier/visite-du-site-de-safran-6156/
SEQUENCE:0
END:VEVENT
END:VCALENDAR
