BEGIN:VCALENDAR
METHOD:PUBLISH
VERSION:2.0
CALSCALE:GREGORIAN
BEGIN:VTIMEZONE
TZID:Europe/Paris
BEGIN:DAYLIGHT
TZOFFSETFROM:+0100
RRULE:FREQ=YEARLY;BYMONTH=3;BYDAY=-1SU
DTSTART:19810329T020000
TZNAME:UTC+2
TZOFFSETTO:+0200
END:DAYLIGHT
BEGIN:STANDARD
TZOFFSETFROM:+0200
RRULE:FREQ=YEARLY;BYMONTH=10;BYDAY=-1SU
DTSTART:19961027T030000
TZNAME:UTC+1
TZOFFSETTO:+0100
END:STANDARD
END:VTIMEZONE
BEGIN:VEVENT
UID:6801
DTSTART;TZID=Europe/Paris:20251118T090000
DTEND;TZID=Europe/Paris:20251118T120000
DTSTAMP;TZID=Europe/Paris:20260424T131524
LOCATION:Saint-Avold
SUMMARY:Visite du site de Carling Saint-Avold
DESCRIPTION:🕘 09h00 – 09h30Accueil &amp; CollationAccueil des participants autour d'un café/thé et viennoiseries. Présentation rapide du déroulé de la matinée. 🕤 09h30 – 11h00Présentation des métiers représentés par des femmes chez TotalEnergiesInterventions...
URL;VALUE=URI:https://www.ellesbougent.com/agenda/calendrier/visite-du-site-de-carling-saint-avold-6801/
SEQUENCE:0
END:VEVENT
END:VCALENDAR
