BEGIN:VCALENDAR
METHOD:PUBLISH
VERSION:2.0
CALSCALE:GREGORIAN
BEGIN:VTIMEZONE
TZID:Europe/Paris
BEGIN:DAYLIGHT
TZOFFSETFROM:+0100
RRULE:FREQ=YEARLY;BYMONTH=3;BYDAY=-1SU
DTSTART:19810329T020000
TZNAME:UTC+2
TZOFFSETTO:+0200
END:DAYLIGHT
BEGIN:STANDARD
TZOFFSETFROM:+0200
RRULE:FREQ=YEARLY;BYMONTH=10;BYDAY=-1SU
DTSTART:19961027T030000
TZNAME:UTC+1
TZOFFSETTO:+0100
END:STANDARD
END:VTIMEZONE
BEGIN:VEVENT
UID:6444
DTSTART;TZID=Europe/Paris:20251118T090000
DTEND;TZID=Europe/Paris:20251118T120000
DTSTAMP;TZID=Europe/Paris:20260420T101849
LOCATION:Nice
SUMMARY:Visite du chantier "Haliotis"
DESCRIPTION:Dans le cadre du programme « Elles Bougent », nous avons organisé une visite de chantier exceptionnelle du projet HALIOTIS, future plus grande station d'épuration souterraine d'Europe. Cette initiative a pour objectifs de :   Faire découvrir concrètement...
URL;VALUE=URI:https://www.ellesbougent.com/agenda/calendrier/visite-du-chantier-haliotis-6444/
SEQUENCE:0
END:VEVENT
END:VCALENDAR
