BEGIN:VCALENDAR
METHOD:PUBLISH
VERSION:2.0
CALSCALE:GREGORIAN
BEGIN:VTIMEZONE
TZID:Europe/Paris
BEGIN:DAYLIGHT
TZOFFSETFROM:+0100
RRULE:FREQ=YEARLY;BYMONTH=3;BYDAY=-1SU
DTSTART:19810329T020000
TZNAME:UTC+2
TZOFFSETTO:+0200
END:DAYLIGHT
BEGIN:STANDARD
TZOFFSETFROM:+0200
RRULE:FREQ=YEARLY;BYMONTH=10;BYDAY=-1SU
DTSTART:19961027T030000
TZNAME:UTC+1
TZOFFSETTO:+0100
END:STANDARD
END:VTIMEZONE
BEGIN:VEVENT
UID:6398
DTSTART;TZID=Europe/Paris:20251118T090000
DTEND;TZID=Europe/Paris:20251118T120000
DTSTAMP;TZID=Europe/Paris:20260424T132217
LOCATION:Grand-Quevilly
SUMMARY:Visite de l'usine Cargill Cacao & Chocolat Rouen
DESCRIPTION:- 9h - 9h45h : Accueil des étudiantes en salle pour une présentation de l'usine, de son activité, du process de fabrication de la fèves de cacao au chocolat - 9h45 - 10h15 : Présentation des corps de métier qui travaillent sur le site au travers des...
URL;VALUE=URI:https://www.ellesbougent.com/agenda/calendrier/visite-de-usine-cargill-cacao-chocolat-rouen-6398/
SEQUENCE:0
END:VEVENT
END:VCALENDAR
