BEGIN:VCALENDAR
METHOD:PUBLISH
VERSION:2.0
CALSCALE:GREGORIAN
BEGIN:VTIMEZONE
TZID:Europe/Paris
BEGIN:DAYLIGHT
TZOFFSETFROM:+0100
RRULE:FREQ=YEARLY;BYMONTH=3;BYDAY=-1SU
DTSTART:19810329T020000
TZNAME:UTC+2
TZOFFSETTO:+0200
END:DAYLIGHT
BEGIN:STANDARD
TZOFFSETFROM:+0200
RRULE:FREQ=YEARLY;BYMONTH=10;BYDAY=-1SU
DTSTART:19961027T030000
TZNAME:UTC+1
TZOFFSETTO:+0100
END:STANDARD
END:VTIMEZONE
BEGIN:VEVENT
UID:5986
DTSTART;TZID=Europe/Paris:20251120T090000
DTEND;TZID=Europe/Paris:20251120T130000
DTSTAMP;TZID=Europe/Paris:20260424T131741
LOCATION:Drancy
SUMMARY:Visite de site R&D et rencontre d'ingénieures
DESCRIPTION:À la découverte des métiers de demain À l'occasion de la Semaine de l'Industrie, nous avons le plaisir d'accueillir les participantes du réseau Elles Bougent pour une matinée immersive au cœur de notre site.Cette demi-journée est dédiée à la découverte des...
URL;VALUE=URI:https://www.ellesbougent.com/agenda/calendrier/visite-de-site-r-d-et-rencontre-ingenieures-5986/
SEQUENCE:0
END:VEVENT
END:VCALENDAR
