BEGIN:VCALENDAR
METHOD:PUBLISH
VERSION:2.0
CALSCALE:GREGORIAN
BEGIN:VTIMEZONE
TZID:Europe/Paris
BEGIN:DAYLIGHT
TZOFFSETFROM:+0100
RRULE:FREQ=YEARLY;BYMONTH=3;BYDAY=-1SU
DTSTART:19810329T020000
TZNAME:UTC+2
TZOFFSETTO:+0200
END:DAYLIGHT
BEGIN:STANDARD
TZOFFSETFROM:+0200
RRULE:FREQ=YEARLY;BYMONTH=10;BYDAY=-1SU
DTSTART:19961027T030000
TZNAME:UTC+1
TZOFFSETTO:+0100
END:STANDARD
END:VTIMEZONE
BEGIN:VEVENT
UID:6277
DTSTART;TZID=Europe/Paris:20251117T140000
DTEND;TZID=Europe/Paris:20251117T170000
DTSTAMP;TZID=Europe/Paris:20260424T131657
LOCATION:LE GARRIC (81450)
SUMMARY:Visite de site et présentation de parcours professionnels
DESCRIPTION:Bonjour,Notre usine Hydro Extrusion Albi invite un groupe de Lycéen à venir visiter nos ateliers de production.Vous y découvrirez notamment notre ligne d'extrusion, ainsi que les différents métiers de notre chaine de production (Extrusion, Emballage,...
URL;VALUE=URI:https://www.ellesbougent.com/agenda/calendrier/visite-de-site-et-presentation-de-parcours-professionnels-6277/
SEQUENCE:0
END:VEVENT
END:VCALENDAR
