BEGIN:VCALENDAR
METHOD:PUBLISH
VERSION:2.0
CALSCALE:GREGORIAN
BEGIN:VTIMEZONE
TZID:Europe/Paris
BEGIN:DAYLIGHT
TZOFFSETFROM:+0100
RRULE:FREQ=YEARLY;BYMONTH=3;BYDAY=-1SU
DTSTART:19810329T020000
TZNAME:UTC+2
TZOFFSETTO:+0200
END:DAYLIGHT
BEGIN:STANDARD
TZOFFSETFROM:+0200
RRULE:FREQ=YEARLY;BYMONTH=10;BYDAY=-1SU
DTSTART:19961027T030000
TZNAME:UTC+1
TZOFFSETTO:+0100
END:STANDARD
END:VTIMEZONE
BEGIN:VEVENT
UID:6554
DTSTART;TZID=Europe/Paris:20251119T090000
DTEND;TZID=Europe/Paris:20251119T110000
DTSTAMP;TZID=Europe/Paris:20260424T131851
LOCATION:LE PORT
SUMMARY:Visite de la centrale bioénergie EDF PEI du Port
DESCRIPTION:Filiale à 100 % du groupe EDF, EDF PEI exploite la centrale bioénergie du Port, un site de production d'électricité stratégique qui contribue à hauteur de 40 % aux besoins énergétiques de l'île de La Réunion. Cette visite permettra aux participantes de...
URL;VALUE=URI:https://www.ellesbougent.com/agenda/calendrier/visite-de-la-centrale-bioenergie-edf-pei-du-port-6554/
SEQUENCE:0
END:VEVENT
END:VCALENDAR
