BEGIN:VCALENDAR
METHOD:PUBLISH
VERSION:2.0
CALSCALE:GREGORIAN
BEGIN:VTIMEZONE
TZID:Europe/Paris
BEGIN:DAYLIGHT
TZOFFSETFROM:+0100
RRULE:FREQ=YEARLY;BYMONTH=3;BYDAY=-1SU
DTSTART:19810329T020000
TZNAME:UTC+2
TZOFFSETTO:+0200
END:DAYLIGHT
BEGIN:STANDARD
TZOFFSETFROM:+0200
RRULE:FREQ=YEARLY;BYMONTH=10;BYDAY=-1SU
DTSTART:19961027T030000
TZNAME:UTC+1
TZOFFSETTO:+0100
END:STANDARD
END:VTIMEZONE
BEGIN:VEVENT
UID:6430
DTSTART;TZID=Europe/Paris:20251117T093000
DTEND;TZID=Europe/Paris:20251117T113000
DTSTAMP;TZID=Europe/Paris:20260424T132138
LOCATION:La Rochelle
SUMMARY:[visite de chantier] tour St Nicolas à La Rochelle
DESCRIPTION:Les équipes de Freyssinet (groupe VINCI) vous proposent de visiter la Tour Saint-Nicolas à La Rochelle La légende prête à la fée Mélusine la construction de ce monument emblématique du Vieux-Port qui débute vers 1345 Elle a assuré pendant cinq siècles la...
URL;VALUE=URI:https://www.ellesbougent.com/agenda/calendrier/visite-de-chantier-tour-st-nicolas-a-la-rochelle-6430/
SEQUENCE:0
END:VEVENT
END:VCALENDAR
