BEGIN:VCALENDAR
METHOD:PUBLISH
VERSION:2.0
CALSCALE:GREGORIAN
BEGIN:VTIMEZONE
TZID:Europe/Paris
BEGIN:DAYLIGHT
TZOFFSETFROM:+0100
RRULE:FREQ=YEARLY;BYMONTH=3;BYDAY=-1SU
DTSTART:19810329T020000
TZNAME:UTC+2
TZOFFSETTO:+0200
END:DAYLIGHT
BEGIN:STANDARD
TZOFFSETFROM:+0200
RRULE:FREQ=YEARLY;BYMONTH=10;BYDAY=-1SU
DTSTART:19961027T030000
TZNAME:UTC+1
TZOFFSETTO:+0100
END:STANDARD
END:VTIMEZONE
BEGIN:VEVENT
UID:6133
DTSTART;TZID=Europe/Paris:20251117T093000
DTEND;TZID=Europe/Paris:20251117T113000
DTSTAMP;TZID=Europe/Paris:20260424T131220
LOCATION:SECLIN
SUMMARY:Visite de chantier - Seclin
DESCRIPTION:Nous vous proposons une immersion au cœur de notre chantier en pleine activité !Venez découvrir concrètement notre environnement de travail, échanger avec nos collaborateurs sur leur métier, leur quotidien et leur parcours.Une occasion unique de mieux...
URL;VALUE=URI:https://www.ellesbougent.com/agenda/calendrier/visite-de-chantier-seclin-6133/
SEQUENCE:0
END:VEVENT
END:VCALENDAR
