BEGIN:VCALENDAR
METHOD:PUBLISH
VERSION:2.0
CALSCALE:GREGORIAN
BEGIN:VTIMEZONE
TZID:Europe/Paris
BEGIN:DAYLIGHT
TZOFFSETFROM:+0100
RRULE:FREQ=YEARLY;BYMONTH=3;BYDAY=-1SU
DTSTART:19810329T020000
TZNAME:UTC+2
TZOFFSETTO:+0200
END:DAYLIGHT
BEGIN:STANDARD
TZOFFSETFROM:+0200
RRULE:FREQ=YEARLY;BYMONTH=10;BYDAY=-1SU
DTSTART:19961027T030000
TZNAME:UTC+1
TZOFFSETTO:+0100
END:STANDARD
END:VTIMEZONE
BEGIN:VEVENT
UID:6570
DTSTART;TZID=Europe/Paris:20251121T093000
DTEND;TZID=Europe/Paris:20251121T113000
DTSTAMP;TZID=Europe/Paris:20260424T132319
LOCATION:LIGNY EN BARROIS
SUMMARY:Visite de chantier - Le bâtiment au coeur de l'industrie
DESCRIPTION:Nous vous proposons une immersion au cœur d'un de nos plus importants chantiers en pleine activité !Venez découvrir concrètement notre environnement de travail, échanger avec nos collaboratrices sur leurs métiers, leur quotidien et leur parcours.Une...
URL;VALUE=URI:https://www.ellesbougent.com/agenda/calendrier/visite-de-chantier-le-batiment-au-coeur-de-industrie-6570/
SEQUENCE:0
END:VEVENT
END:VCALENDAR
