BEGIN:VCALENDAR
METHOD:PUBLISH
VERSION:2.0
CALSCALE:GREGORIAN
BEGIN:VTIMEZONE
TZID:Europe/Paris
BEGIN:DAYLIGHT
TZOFFSETFROM:+0100
RRULE:FREQ=YEARLY;BYMONTH=3;BYDAY=-1SU
DTSTART:19810329T020000
TZNAME:UTC+2
TZOFFSETTO:+0200
END:DAYLIGHT
BEGIN:STANDARD
TZOFFSETFROM:+0200
RRULE:FREQ=YEARLY;BYMONTH=10;BYDAY=-1SU
DTSTART:19961027T030000
TZNAME:UTC+1
TZOFFSETTO:+0100
END:STANDARD
END:VTIMEZONE
BEGIN:VEVENT
UID:6073
DTSTART;TZID=Europe/Paris:20251117T090000
DTEND;TZID=Europe/Paris:20251117T120000
DTSTAMP;TZID=Europe/Paris:20260424T131357
LOCATION:VIGNEUX-SUR-SEINE
SUMMARY:Visite de chantier de pose de canalisation d'eau potable.
DESCRIPTION:Visite de chantier : Le projet concerne une opération de travaux destinés à la pose d'une canalisation d'eau potable de diamètre 800mm sur la rue Pierre Brossolette à Draveil et sur la rue Pierre Semard à Vigneux, sur un linéaire d'environ 1 650 mètres....
URL;VALUE=URI:https://www.ellesbougent.com/agenda/calendrier/visite-de-chantier-de-pose-de-canalisation-eau-potable-6073/
SEQUENCE:0
END:VEVENT
END:VCALENDAR
