BEGIN:VCALENDAR
METHOD:PUBLISH
VERSION:2.0
CALSCALE:GREGORIAN
BEGIN:VTIMEZONE
TZID:Europe/Paris
BEGIN:DAYLIGHT
TZOFFSETFROM:+0100
RRULE:FREQ=YEARLY;BYMONTH=3;BYDAY=-1SU
DTSTART:19810329T020000
TZNAME:UTC+2
TZOFFSETTO:+0200
END:DAYLIGHT
BEGIN:STANDARD
TZOFFSETFROM:+0200
RRULE:FREQ=YEARLY;BYMONTH=10;BYDAY=-1SU
DTSTART:19961027T030000
TZNAME:UTC+1
TZOFFSETTO:+0100
END:STANDARD
END:VTIMEZONE
BEGIN:VEVENT
UID:6306
DTSTART;TZID=Europe/Paris:20251119T090000
DTEND;TZID=Europe/Paris:20251119T120000
DTSTAMP;TZID=Europe/Paris:20260424T133311
LOCATION:Rosny-sous-Bois
SUMMARY:Visite de l’Atelier de maintenance des trains de la ligne 11
DESCRIPTION:Envie de découvrir les coulisses du monde ferroviaire ? Participez à une visite passionnante d'un atelier de maintenance industrielle des trains ! Vous y verrez comment les équipes techniques réparent, contrôlent et entretiennent les trains pour qu'ils...
URL;VALUE=URI:https://www.ellesbougent.com/agenda/calendrier/visite-de-atelier-de-maintenance-des-trains-de-la-ligne-11-6306/
SEQUENCE:0
END:VEVENT
END:VCALENDAR
