BEGIN:VCALENDAR
METHOD:PUBLISH
VERSION:2.0
CALSCALE:GREGORIAN
BEGIN:VTIMEZONE
TZID:Europe/Paris
BEGIN:DAYLIGHT
TZOFFSETFROM:+0100
RRULE:FREQ=YEARLY;BYMONTH=3;BYDAY=-1SU
DTSTART:19810329T020000
TZNAME:UTC+2
TZOFFSETTO:+0200
END:DAYLIGHT
BEGIN:STANDARD
TZOFFSETFROM:+0200
RRULE:FREQ=YEARLY;BYMONTH=10;BYDAY=-1SU
DTSTART:19961027T030000
TZNAME:UTC+1
TZOFFSETTO:+0100
END:STANDARD
END:VTIMEZONE
BEGIN:VEVENT
UID:6402
DTSTART;TZID=Europe/Paris:20251118T090000
DTEND;TZID=Europe/Paris:20251118T113000
DTSTAMP;TZID=Europe/Paris:20260424T133551
LOCATION:HEILLECOURT
SUMMARY:Visite de l'Agence SIGNATURE d'Heillecourt et échanges avec les marraines 
DESCRIPTION:Venez visiter l'agence SIGNATURE d'Heillecourt, spécialisée dans les chantiers d'Équipements de la Route et échanger avec les marraines : Cheffe de Centre et Ingénieure Travaux.
URL;VALUE=URI:https://www.ellesbougent.com/agenda/calendrier/visite-de-agence-signature-heillecourt-et-echanges-avec-les-marraines-6402/
SEQUENCE:0
END:VEVENT
END:VCALENDAR
