BEGIN:VCALENDAR
METHOD:PUBLISH
VERSION:2.0
CALSCALE:GREGORIAN
BEGIN:VTIMEZONE
TZID:Europe/Paris
BEGIN:DAYLIGHT
TZOFFSETFROM:+0100
RRULE:FREQ=YEARLY;BYMONTH=3;BYDAY=-1SU
DTSTART:19810329T020000
TZNAME:UTC+2
TZOFFSETTO:+0200
END:DAYLIGHT
BEGIN:STANDARD
TZOFFSETFROM:+0200
RRULE:FREQ=YEARLY;BYMONTH=10;BYDAY=-1SU
DTSTART:19961027T030000
TZNAME:UTC+1
TZOFFSETTO:+0100
END:STANDARD
END:VTIMEZONE
BEGIN:VEVENT
UID:7870
DTSTART;TZID=Europe/Paris:20260310T150000
DTEND;TZID=Europe/Paris:20260310T180000
DTSTAMP;TZID=Europe/Paris:20260420T103600
LOCATION:Tudela
SUMMARY:Visit from students of ETI to OPmobility Tudela
DESCRIPTION:To celebrate Women's Week, a group of students from the ETI educational center will visit our site. This initiative aims to inspire young people to discover the industrial sector from an early age and to promote female inclusion in technical and manufacturing careers....
URL;VALUE=URI:https://www.ellesbougent.com/agenda/calendrier/visit-from-students-of-eti-to-opmobility-tudela-7870/
SEQUENCE:0
END:VEVENT
END:VCALENDAR
