BEGIN:VCALENDAR
METHOD:PUBLISH
VERSION:2.0
CALSCALE:GREGORIAN
BEGIN:VTIMEZONE
TZID:Europe/Paris
BEGIN:DAYLIGHT
TZOFFSETFROM:+0100
RRULE:FREQ=YEARLY;BYMONTH=3;BYDAY=-1SU
DTSTART:19810329T020000
TZNAME:UTC+2
TZOFFSETTO:+0200
END:DAYLIGHT
BEGIN:STANDARD
TZOFFSETFROM:+0200
RRULE:FREQ=YEARLY;BYMONTH=10;BYDAY=-1SU
DTSTART:19961027T030000
TZNAME:UTC+1
TZOFFSETTO:+0100
END:STANDARD
END:VTIMEZONE
BEGIN:VEVENT
UID:4796
DTSTART;TZID=Europe/Paris:20241120T100000
DTEND;TZID=Europe/Paris:20241120T120000
DTSTAMP;TZID=Europe/Paris:20260425T182113
LOCATION:Castanet-Tolosan
SUMMARY:Venez visiter notre usine Coca-Cola Europacific Partners
DESCRIPTION:Découvrez les coulisses d'une marque emblématique ! Envie de visiter un site de production à taille humaine ? L'usine de Castanet Tolosan (à côté de Toulouse) vous ouvre ses portes ! 😊 Qu'est-ce que l'usine de Castanet Tolosan ? C'est un...
URL;VALUE=URI:https://www.ellesbougent.com/agenda/calendrier/venez-visiter-notre-usine-coca-cola-europacific-partners-4796/
SEQUENCE:0
END:VEVENT
END:VCALENDAR
