BEGIN:VCALENDAR
METHOD:PUBLISH
VERSION:2.0
CALSCALE:GREGORIAN
BEGIN:VTIMEZONE
TZID:Europe/Paris
BEGIN:DAYLIGHT
TZOFFSETFROM:+0100
RRULE:FREQ=YEARLY;BYMONTH=3;BYDAY=-1SU
DTSTART:19810329T020000
TZNAME:UTC+2
TZOFFSETTO:+0200
END:DAYLIGHT
BEGIN:STANDARD
TZOFFSETFROM:+0200
RRULE:FREQ=YEARLY;BYMONTH=10;BYDAY=-1SU
DTSTART:19961027T030000
TZNAME:UTC+1
TZOFFSETTO:+0100
END:STANDARD
END:VTIMEZONE
BEGIN:VEVENT
UID:6429
DTSTART;TZID=Europe/Paris:20251120T083000
DTEND;TZID=Europe/Paris:20251120T120000
DTSTAMP;TZID=Europe/Paris:20260424T132444
LOCATION:VIZILLE
SUMMARY:Venez découvrir une production de vapeur issue de la biomasse pour un process industriel plus durable
DESCRIPTION:Dans le cadre de la semaine de l'industrie 2025, ENGIE Solutions et l'association Elles Bougent vous invitent à découvrir le site industriel des Papeteries de Vizille et son système de production de vapeur. L'usine est équipée d'une chaudière biomasse de 8 MW...
URL;VALUE=URI:https://www.ellesbougent.com/agenda/calendrier/venez-decouvrir-une-production-de-vapeur-issue-de-la-biomasse-pour-un-process-industriel-plus-durable-6429/
SEQUENCE:0
END:VEVENT
END:VCALENDAR
