BEGIN:VCALENDAR
METHOD:PUBLISH
VERSION:2.0
CALSCALE:GREGORIAN
BEGIN:VTIMEZONE
TZID:Europe/Paris
BEGIN:DAYLIGHT
TZOFFSETFROM:+0100
RRULE:FREQ=YEARLY;BYMONTH=3;BYDAY=-1SU
DTSTART:19810329T020000
TZNAME:UTC+2
TZOFFSETTO:+0200
END:DAYLIGHT
BEGIN:STANDARD
TZOFFSETFROM:+0200
RRULE:FREQ=YEARLY;BYMONTH=10;BYDAY=-1SU
DTSTART:19961027T030000
TZNAME:UTC+1
TZOFFSETTO:+0100
END:STANDARD
END:VTIMEZONE
BEGIN:VEVENT
UID:6329
DTSTART;TZID=Europe/Paris:20251119T090000
DTEND;TZID=Europe/Paris:20251119T113000
DTSTAMP;TZID=Europe/Paris:20260424T134052
LOCATION:LIBOURNE
SUMMARY:Venez découvrir l’un de nos chantiers innovants d'industrie pharmacie vétérinaire en France !
DESCRIPTION:Plongez au cœur d'un chantier à Libourne (33) et découvrez les coulisses de la construction d'un laboratoire de pharmacie vétérinaire de nouvelle génération. Accompagnées de nos équipes, vous découvrirez les enjeux de ce projet d'envergure et les métiers...
URL;VALUE=URI:https://www.ellesbougent.com/agenda/calendrier/venez-decouvrir-un-de-nos-chantiers-innovants-industrie-pharmacie-veterinaire-en-france-6329/
SEQUENCE:0
END:VEVENT
END:VCALENDAR
