BEGIN:VCALENDAR
METHOD:PUBLISH
VERSION:2.0
CALSCALE:GREGORIAN
BEGIN:VTIMEZONE
TZID:Europe/Paris
BEGIN:DAYLIGHT
TZOFFSETFROM:+0100
RRULE:FREQ=YEARLY;BYMONTH=3;BYDAY=-1SU
DTSTART:19810329T020000
TZNAME:UTC+2
TZOFFSETTO:+0200
END:DAYLIGHT
BEGIN:STANDARD
TZOFFSETFROM:+0200
RRULE:FREQ=YEARLY;BYMONTH=10;BYDAY=-1SU
DTSTART:19961027T030000
TZNAME:UTC+1
TZOFFSETTO:+0100
END:STANDARD
END:VTIMEZONE
BEGIN:VEVENT
UID:6334
DTSTART;TZID=Europe/Paris:20251119T090000
DTEND;TZID=Europe/Paris:20251119T113000
DTSTAMP;TZID=Europe/Paris:20260424T131949
LOCATION:VILLEURBANNE
SUMMARY:Venez découvrir un chantier de datacenter au sein d’un centre de recherches !
DESCRIPTION:Plongez au cœur d'un de nos chantiers à Villeurbanne (69) et découvrez les coulisses de la construction d'un datacenter de nouvelle génération au sein d'un centre de recherches. Accompagnées de nos équipes, vous découvrirez les enjeux de ce projet d'envergure...
URL;VALUE=URI:https://www.ellesbougent.com/agenda/calendrier/venez-decouvrir-un-chantier-de-datacenter-au-sein-un-centre-de-recherches-6334/
SEQUENCE:0
END:VEVENT
END:VCALENDAR
