BEGIN:VCALENDAR
METHOD:PUBLISH
VERSION:2.0
CALSCALE:GREGORIAN
BEGIN:VTIMEZONE
TZID:Europe/Paris
BEGIN:DAYLIGHT
TZOFFSETFROM:+0100
RRULE:FREQ=YEARLY;BYMONTH=3;BYDAY=-1SU
DTSTART:19810329T020000
TZNAME:UTC+2
TZOFFSETTO:+0200
END:DAYLIGHT
BEGIN:STANDARD
TZOFFSETFROM:+0200
RRULE:FREQ=YEARLY;BYMONTH=10;BYDAY=-1SU
DTSTART:19961027T030000
TZNAME:UTC+1
TZOFFSETTO:+0100
END:STANDARD
END:VTIMEZONE
BEGIN:VEVENT
UID:6437
DTSTART;TZID=Europe/Paris:20251127T090000
DTEND;TZID=Europe/Paris:20251127T120000
DTSTAMP;TZID=Europe/Paris:20260424T133909
LOCATION:Moissy-Cramayel
SUMMARY:Venez découvrir nos métiers sur le site de safran aircraft engines à Villaroche
DESCRIPTION:🚀 Et si vous veniez découvrir nos métiers de l'intérieur ?   Nous vous ouvrons les portes de notre site de Villaroche !Au programme :✨ Des rencontres avec nos marraines passionnées✨ Des échanges autour de leurs parcours inspirants✨ Une...
URL;VALUE=URI:https://www.ellesbougent.com/agenda/calendrier/venez-decouvrir-nos-metiers-sur-le-site-de-safran-aircraft-engines-a-villaroche-6437/
SEQUENCE:0
END:VEVENT
END:VCALENDAR
