BEGIN:VCALENDAR
METHOD:PUBLISH
VERSION:2.0
CALSCALE:GREGORIAN
BEGIN:VTIMEZONE
TZID:Europe/Paris
BEGIN:DAYLIGHT
TZOFFSETFROM:+0100
RRULE:FREQ=YEARLY;BYMONTH=3;BYDAY=-1SU
DTSTART:19810329T020000
TZNAME:UTC+2
TZOFFSETTO:+0200
END:DAYLIGHT
BEGIN:STANDARD
TZOFFSETFROM:+0200
RRULE:FREQ=YEARLY;BYMONTH=10;BYDAY=-1SU
DTSTART:19961027T030000
TZNAME:UTC+1
TZOFFSETTO:+0100
END:STANDARD
END:VTIMEZONE
BEGIN:VEVENT
UID:6083
DTSTART;TZID=Europe/Paris:20251118T090000
DTEND;TZID=Europe/Paris:20251118T180000
DTSTAMP;TZID=Europe/Paris:20260424T133909
LOCATION:LA MONTAGNE
SUMMARY:Venez découvrir les métiers passionnants de la propulsion navale et nos ateliers à Nantes-Indret
DESCRIPTION:Présentation du site en salle Echanges avec des marraines : présentations des métiers, questions/réponses Visite du site : ateliers, OpenLab Collation
URL;VALUE=URI:https://www.ellesbougent.com/agenda/calendrier/venez-decouvrir-les-metiers-passionnants-de-la-propulsion-navale-et-nos-ateliers-a-nantes-indret-6083/
SEQUENCE:0
END:VEVENT
END:VCALENDAR
