BEGIN:VCALENDAR
METHOD:PUBLISH
VERSION:2.0
CALSCALE:GREGORIAN
BEGIN:VTIMEZONE
TZID:Europe/Paris
BEGIN:DAYLIGHT
TZOFFSETFROM:+0100
RRULE:FREQ=YEARLY;BYMONTH=3;BYDAY=-1SU
DTSTART:19810329T020000
TZNAME:UTC+2
TZOFFSETTO:+0200
END:DAYLIGHT
BEGIN:STANDARD
TZOFFSETFROM:+0200
RRULE:FREQ=YEARLY;BYMONTH=10;BYDAY=-1SU
DTSTART:19961027T030000
TZNAME:UTC+1
TZOFFSETTO:+0100
END:STANDARD
END:VTIMEZONE
BEGIN:VEVENT
UID:6036
DTSTART;TZID=Europe/Paris:20251118T140000
DTEND;TZID=Europe/Paris:20251118T170000
DTSTAMP;TZID=Europe/Paris:20260424T133617
LOCATION:Roissy-en-France
SUMMARY:Venez découvrir les coulisses de la maintenance des ascenseurs OTIS
DESCRIPTION:Avec environ 300 000 commandes expédiées en moyenne chaque année dans le monde entier, le centre de pièces détachées de Roissy-en-France joue un rôle essentiel pour l'activité d'OTIS dans le monde. La remise en service des ascenseurs ou escalators est une des...
URL;VALUE=URI:https://www.ellesbougent.com/agenda/calendrier/venez-decouvrir-les-coulisses-de-la-maintenance-des-ascenseurs-otis-6036/
SEQUENCE:0
END:VEVENT
END:VCALENDAR
