BEGIN:VCALENDAR
METHOD:PUBLISH
VERSION:2.0
CALSCALE:GREGORIAN
BEGIN:VTIMEZONE
TZID:Europe/Paris
BEGIN:DAYLIGHT
TZOFFSETFROM:+0100
RRULE:FREQ=YEARLY;BYMONTH=3;BYDAY=-1SU
DTSTART:19810329T020000
TZNAME:UTC+2
TZOFFSETTO:+0200
END:DAYLIGHT
BEGIN:STANDARD
TZOFFSETFROM:+0200
RRULE:FREQ=YEARLY;BYMONTH=10;BYDAY=-1SU
DTSTART:19961027T030000
TZNAME:UTC+1
TZOFFSETTO:+0100
END:STANDARD
END:VTIMEZONE
BEGIN:VEVENT
UID:7882
DTSTART;TZID=Europe/Paris:20260309T090000
DTEND;TZID=Europe/Paris:20260309T180000
DTSTAMP;TZID=Europe/Paris:20260419T192711
LOCATION:SAINT CANNAT
SUMMARY:Valoriser pleinement les talents féminins
DESCRIPTION:Dans le cadre de l'évènement Equity Week 2026, Bouygues Construction Matériel permet à l'ensemble de ses collaborateurs d'être sensibiliser sur le sujet de la valorisation des talents féminins en leur permettant de participer à 3 webinaires organisés par Elles...
URL;VALUE=URI:https://www.ellesbougent.com/agenda/calendrier/valoriser-pleinement-les-talents-feminins-7882/
SEQUENCE:0
END:VEVENT
END:VCALENDAR
