BEGIN:VCALENDAR
METHOD:PUBLISH
VERSION:2.0
CALSCALE:GREGORIAN
BEGIN:VTIMEZONE
TZID:Europe/Paris
BEGIN:DAYLIGHT
TZOFFSETFROM:+0100
RRULE:FREQ=YEARLY;BYMONTH=3;BYDAY=-1SU
DTSTART:19810329T020000
TZNAME:UTC+2
TZOFFSETTO:+0200
END:DAYLIGHT
BEGIN:STANDARD
TZOFFSETFROM:+0200
RRULE:FREQ=YEARLY;BYMONTH=10;BYDAY=-1SU
DTSTART:19961027T030000
TZNAME:UTC+1
TZOFFSETTO:+0100
END:STANDARD
END:VTIMEZONE
BEGIN:VEVENT
UID:6071
DTSTART;TZID=Europe/Paris:20251118T133000
DTEND;TZID=Europe/Paris:20251118T173000
DTSTAMP;TZID=Europe/Paris:20260424T131852
LOCATION:Saint-Denis Cedex
SUMMARY:Une visite dans une direction stratégique d'EDF\, ça vous branche ?⚡
DESCRIPTION:Venez découvrir la Direction Optimisation Amont Aval Trading (DOAAT) d'EDF. Son rôle : équilibrer l'offre et la demande d'électricité en France pour EDF, 24h/24 et 7j/7⚡. Pour faire simple, elle détermine et ajuste la production pour satisfaire la...
URL;VALUE=URI:https://www.ellesbougent.com/agenda/calendrier/une-visite-dans-une-direction-strategique-edf-ca-vous-branche-6071/
SEQUENCE:0
END:VEVENT
END:VCALENDAR
