BEGIN:VCALENDAR
METHOD:PUBLISH
VERSION:2.0
CALSCALE:GREGORIAN
BEGIN:VTIMEZONE
TZID:Europe/Paris
BEGIN:DAYLIGHT
TZOFFSETFROM:+0100
RRULE:FREQ=YEARLY;BYMONTH=3;BYDAY=-1SU
DTSTART:19810329T020000
TZNAME:UTC+2
TZOFFSETTO:+0200
END:DAYLIGHT
BEGIN:STANDARD
TZOFFSETFROM:+0200
RRULE:FREQ=YEARLY;BYMONTH=10;BYDAY=-1SU
DTSTART:19961027T030000
TZNAME:UTC+1
TZOFFSETTO:+0100
END:STANDARD
END:VTIMEZONE
BEGIN:VEVENT
UID:6397
DTSTART;TZID=Europe/Paris:20251117T100000
DTEND;TZID=Europe/Paris:20251117T120000
DTSTAMP;TZID=Europe/Paris:20260424T133857
LOCATION:ST PRIEST (69800)
SUMMARY:Une visite au coeur de notre industrie - Chez Montabert on brise les stéréotypes
DESCRIPTION:10h Accueil en salle 10h10-10h30/40 Présentation de Montabert en vidéo - petit focus sur notre histoire et notre industrie 10h45-50-&gt;11h30-11h45 Visite du site 11h45-12h Jeux ludiques - remise de goodies Fin de séance
URL;VALUE=URI:https://www.ellesbougent.com/agenda/calendrier/une-visite-au-coeur-de-notre-industrie-chez-montabert-on-brise-les-stereotypes-6397/
SEQUENCE:0
END:VEVENT
END:VCALENDAR
