BEGIN:VCALENDAR
METHOD:PUBLISH
VERSION:2.0
CALSCALE:GREGORIAN
BEGIN:VTIMEZONE
TZID:Europe/Paris
BEGIN:DAYLIGHT
TZOFFSETFROM:+0100
RRULE:FREQ=YEARLY;BYMONTH=3;BYDAY=-1SU
DTSTART:19810329T020000
TZNAME:UTC+2
TZOFFSETTO:+0200
END:DAYLIGHT
BEGIN:STANDARD
TZOFFSETFROM:+0200
RRULE:FREQ=YEARLY;BYMONTH=10;BYDAY=-1SU
DTSTART:19961027T030000
TZNAME:UTC+1
TZOFFSETTO:+0100
END:STANDARD
END:VTIMEZONE
BEGIN:VEVENT
UID:4323
DTSTART;TZID=Europe/Paris:20240308T090000
DTEND;TZID=Europe/Paris:20240308T123000
DTSTAMP;TZID=Europe/Paris:20260423T201622
LOCATION:GRAMAT
SUMMARY:Une rencontre privilégiée avec des marraines d’entreprises
DESCRIPTION:Pourquoi cette journée ? Pour l'égalité des genres, cet événement a pour objectif de promouvoir les métiers techniques, scientifiques auprès des jeunes filles. Objectifs :  Sensibiliser les jeunes collégiennes aux carrières scientifiques et...
URL;VALUE=URI:https://www.ellesbougent.com/agenda/calendrier/une-rencontre-privilegiee-avec-des-marraines-entreprises-4323/
SEQUENCE:0
END:VEVENT
END:VCALENDAR
