BEGIN:VCALENDAR
METHOD:PUBLISH
VERSION:2.0
CALSCALE:GREGORIAN
BEGIN:VTIMEZONE
TZID:Europe/Paris
BEGIN:DAYLIGHT
TZOFFSETFROM:+0100
RRULE:FREQ=YEARLY;BYMONTH=3;BYDAY=-1SU
DTSTART:19810329T020000
TZNAME:UTC+2
TZOFFSETTO:+0200
END:DAYLIGHT
BEGIN:STANDARD
TZOFFSETFROM:+0200
RRULE:FREQ=YEARLY;BYMONTH=10;BYDAY=-1SU
DTSTART:19961027T030000
TZNAME:UTC+1
TZOFFSETTO:+0100
END:STANDARD
END:VTIMEZONE
BEGIN:VEVENT
UID:6126
DTSTART;TZID=Europe/Paris:20251127T090000
DTEND;TZID=Europe/Paris:20251127T170000
DTSTAMP;TZID=Europe/Paris:20260424T133729
LOCATION:AVOINE
SUMMARY:🌟 Une journée immersive au CNPE de Chinon\, au cœur de l’innovation énergétique !
DESCRIPTION:👷‍♀️ Au programme :  Visite guidée du site industriel EDF Ateliers techniques pour découvrir les métiers de l'énergie Rencontres inspirantes avec les marraines Elles bougent du site Échanges conviviaux autour des parcours, des passions et des...
URL;VALUE=URI:https://www.ellesbougent.com/agenda/calendrier/une-journee-immersive-au-cnpe-de-chinon-au-c-ur-de-innovation-energetique-6126/
SEQUENCE:0
END:VEVENT
END:VCALENDAR
