BEGIN:VCALENDAR
METHOD:PUBLISH
VERSION:2.0
CALSCALE:GREGORIAN
BEGIN:VTIMEZONE
TZID:Europe/Paris
BEGIN:DAYLIGHT
TZOFFSETFROM:+0100
RRULE:FREQ=YEARLY;BYMONTH=3;BYDAY=-1SU
DTSTART:19810329T020000
TZNAME:UTC+2
TZOFFSETTO:+0200
END:DAYLIGHT
BEGIN:STANDARD
TZOFFSETFROM:+0200
RRULE:FREQ=YEARLY;BYMONTH=10;BYDAY=-1SU
DTSTART:19961027T030000
TZNAME:UTC+1
TZOFFSETTO:+0100
END:STANDARD
END:VTIMEZONE
BEGIN:VEVENT
UID:6200
DTSTART;TZID=Europe/Paris:20251119T083000
DTEND;TZID=Europe/Paris:20251119T120000
DTSTAMP;TZID=Europe/Paris:20260424T132439
LOCATION:MAUBEUGE
SUMMARY:Une journée d'immersion au cœur d'Ampère ElectriCity
DESCRIPTION:UNE JOURNEE D'IMMERSION AU CŒUR DE L'INDUSTRIE   Ampère ElectriCity – Manufacture de Maubeuge La Manufacture de Maubeuge est spécialisée dans la fabrication de véhicules, comme le Kangoo E-Tech et la nouvelle 4L électrique. Plus de 2 000 collaborateurs y...
URL;VALUE=URI:https://www.ellesbougent.com/agenda/calendrier/une-journee-immersion-au-c-ur-ampere-electricity-6200/
SEQUENCE:0
END:VEVENT
END:VCALENDAR
