BEGIN:VCALENDAR
METHOD:PUBLISH
VERSION:2.0
CALSCALE:GREGORIAN
BEGIN:VTIMEZONE
TZID:Europe/Paris
BEGIN:DAYLIGHT
TZOFFSETFROM:+0100
RRULE:FREQ=YEARLY;BYMONTH=3;BYDAY=-1SU
DTSTART:19810329T020000
TZNAME:UTC+2
TZOFFSETTO:+0200
END:DAYLIGHT
BEGIN:STANDARD
TZOFFSETFROM:+0200
RRULE:FREQ=YEARLY;BYMONTH=10;BYDAY=-1SU
DTSTART:19961027T030000
TZNAME:UTC+1
TZOFFSETTO:+0100
END:STANDARD
END:VTIMEZONE
BEGIN:VEVENT
UID:6022
DTSTART;TZID=Europe/Paris:20251118T083000
DTEND;TZID=Europe/Paris:20251118T120000
DTSTAMP;TZID=Europe/Paris:20260421T103853
LOCATION:DOUAI
SUMMARY:Une journée d'immersion au cœur d'Ampère ElectriCity
DESCRIPTION:UNE JOURNEE D'IMMERSION AU CŒUR DE L'INDUSTRIE Ampère ElectriCity – Manufacture de Douai Ampère ElectriCity, la première entreprise européenne spécialisée dans les véhicules électriques intelligents, née du groupe Renault. Plus de 3 000 personnes...
URL;VALUE=URI:https://www.ellesbougent.com/agenda/calendrier/une-journee-immersion-au-c-ur-ampere-electricity-6022/
SEQUENCE:0
END:VEVENT
END:VCALENDAR
