BEGIN:VCALENDAR
METHOD:PUBLISH
VERSION:2.0
CALSCALE:GREGORIAN
BEGIN:VTIMEZONE
TZID:Europe/Paris
BEGIN:DAYLIGHT
TZOFFSETFROM:+0100
RRULE:FREQ=YEARLY;BYMONTH=3;BYDAY=-1SU
DTSTART:19810329T020000
TZNAME:UTC+2
TZOFFSETTO:+0200
END:DAYLIGHT
BEGIN:STANDARD
TZOFFSETFROM:+0200
RRULE:FREQ=YEARLY;BYMONTH=10;BYDAY=-1SU
DTSTART:19961027T030000
TZNAME:UTC+1
TZOFFSETTO:+0100
END:STANDARD
END:VTIMEZONE
BEGIN:VEVENT
UID:6123
DTSTART;TZID=Europe/Paris:20251121T090000
DTEND;TZID=Europe/Paris:20251121T120000
DTSTAMP;TZID=Europe/Paris:20260424T133156
LOCATION:Hangenbieten
SUMMARY:Une aventure immersive au cœur des coulisses du tramway
DESCRIPTION:Chères demoiselles, Nous nous réjouissons de vous accueillir chez Alstom au sein de notre site de Hangenbieten (proche de l'aéroport Strasbourg/Entzheim) sur lequel nous développons le Tramway sur pneus Translohr.  Voici le programme que nous vous...
URL;VALUE=URI:https://www.ellesbougent.com/agenda/calendrier/une-aventure-immersive-au-c-ur-des-coulisses-du-tramway-6123/
SEQUENCE:0
END:VEVENT
END:VCALENDAR
