BEGIN:VCALENDAR
METHOD:PUBLISH
VERSION:2.0
CALSCALE:GREGORIAN
BEGIN:VTIMEZONE
TZID:Europe/Paris
BEGIN:DAYLIGHT
TZOFFSETFROM:+0100
RRULE:FREQ=YEARLY;BYMONTH=3;BYDAY=-1SU
DTSTART:19810329T020000
TZNAME:UTC+2
TZOFFSETTO:+0200
END:DAYLIGHT
BEGIN:STANDARD
TZOFFSETFROM:+0200
RRULE:FREQ=YEARLY;BYMONTH=10;BYDAY=-1SU
DTSTART:19961027T030000
TZNAME:UTC+1
TZOFFSETTO:+0100
END:STANDARD
END:VTIMEZONE
BEGIN:VEVENT
UID:6399
DTSTART;TZID=Europe/Paris:20251119T140000
DTEND;TZID=Europe/Paris:20251119T180000
DTSTAMP;TZID=Europe/Paris:20260424T131158
LOCATION:Aulnay sois Bois
SUMMARY:Together in STEM
DESCRIPTION:"Together in STEM" : L'Oréal Opérations s'engage ! Nos équipes partagent leur passion et leur expertise dans les STEM (Science, Technologie, Ingénierie et Mathématiques) avec de jeunes étudiantes. L'objectif : leur offrir un aperçu des coulisses...
URL;VALUE=URI:https://www.ellesbougent.com/agenda/calendrier/together-in-stem-6399/
SEQUENCE:0
END:VEVENT
END:VCALENDAR
