BEGIN:VCALENDAR
METHOD:PUBLISH
VERSION:2.0
CALSCALE:GREGORIAN
BEGIN:VTIMEZONE
TZID:Europe/Paris
BEGIN:DAYLIGHT
TZOFFSETFROM:+0100
RRULE:FREQ=YEARLY;BYMONTH=3;BYDAY=-1SU
DTSTART:19810329T020000
TZNAME:UTC+2
TZOFFSETTO:+0200
END:DAYLIGHT
BEGIN:STANDARD
TZOFFSETFROM:+0200
RRULE:FREQ=YEARLY;BYMONTH=10;BYDAY=-1SU
DTSTART:19961027T030000
TZNAME:UTC+1
TZOFFSETTO:+0100
END:STANDARD
END:VTIMEZONE
BEGIN:VEVENT
UID:6984
DTSTART;TZID=Europe/Paris:20260402T183000
DTEND;TZID=Europe/Paris:20260402T230000
DTSTAMP;TZID=Europe/Paris:20260420T103332
LOCATION:L'Envol des Pionniers - Toulouse (31)
SUMMARY:Soirée des 20 ans d'Elles bougent en Midi-Pyrénées
DESCRIPTION:L'année 2026 marque une étape exceptionnelle : les 20 ans d'Elles bougent ! Deux décennies d'engagement, de transmission, d'actions concrètes et d'impact au service de nos jeunes filles pour pour leur faire découvrir vos métiers passionnants...
URL;VALUE=URI:https://www.ellesbougent.com/agenda/calendrier/soiree-des-20-ans-elles-bougent-en-midi-pyrenees-6984/
SEQUENCE:0
END:VEVENT
END:VCALENDAR
