BEGIN:VCALENDAR
METHOD:PUBLISH
VERSION:2.0
CALSCALE:GREGORIAN
BEGIN:VTIMEZONE
TZID:Europe/Paris
BEGIN:DAYLIGHT
TZOFFSETFROM:+0100
RRULE:FREQ=YEARLY;BYMONTH=3;BYDAY=-1SU
DTSTART:19810329T020000
TZNAME:UTC+2
TZOFFSETTO:+0200
END:DAYLIGHT
BEGIN:STANDARD
TZOFFSETFROM:+0200
RRULE:FREQ=YEARLY;BYMONTH=10;BYDAY=-1SU
DTSTART:19961027T030000
TZNAME:UTC+1
TZOFFSETTO:+0100
END:STANDARD
END:VTIMEZONE
BEGIN:VEVENT
UID:6081
DTSTART;TZID=Europe/Paris:20251120T140000
DTEND;TZID=Europe/Paris:20251120T170000
DTSTAMP;TZID=Europe/Paris:20260424T133857
LOCATION:CORBAS
SUMMARY:SMART CITY - Visite d'un chantier de construction de 29 logements :  restructuration d'un ancien EHPAD et remploi de matériaux
DESCRIPTION:L'opération de construction est emblématique dans son mode de réalisation : transformation d'un vieux bâtiment en résidence de logements en utilisant des matériaux bio sourcés, création d'une extension et utilisation de matériaux de remploi :...
URL;VALUE=URI:https://www.ellesbougent.com/agenda/calendrier/smart-city-visite-un-chantier-de-construction-de-29-logements-restructuration-un-ancien-ehpad-et-remploi-de-materiaux-6081/
SEQUENCE:0
END:VEVENT
END:VCALENDAR
