BEGIN:VCALENDAR
METHOD:PUBLISH
VERSION:2.0
CALSCALE:GREGORIAN
BEGIN:VTIMEZONE
TZID:Europe/Paris
BEGIN:DAYLIGHT
TZOFFSETFROM:+0100
RRULE:FREQ=YEARLY;BYMONTH=3;BYDAY=-1SU
DTSTART:19810329T020000
TZNAME:UTC+2
TZOFFSETTO:+0200
END:DAYLIGHT
BEGIN:STANDARD
TZOFFSETFROM:+0200
RRULE:FREQ=YEARLY;BYMONTH=10;BYDAY=-1SU
DTSTART:19961027T030000
TZNAME:UTC+1
TZOFFSETTO:+0100
END:STANDARD
END:VTIMEZONE
BEGIN:VEVENT
UID:6372
DTSTART;TZID=Europe/Paris:20251120T140000
DTEND;TZID=Europe/Paris:20251120T160000
DTSTAMP;TZID=Europe/Paris:20260424T131918
LOCATION:Montpellier
SUMMARY:Smart City - Visite exclusive du chantier du CAMPUS ANIMA avec Eiffage Construction !
DESCRIPTION:Description : Vous êtes passionnée par le monde de la construction et de l'ingénierie ? Venez découvrir les coulisses du chantier du CAMPUS ANIMA avec Eiffage Construction ! À l'occasion de la Semaine de l'Industrie 2025, nous vous invitons à une...
URL;VALUE=URI:https://www.ellesbougent.com/agenda/calendrier/smart-city-visite-exclusive-du-chantier-du-campus-anima-avec-eiffage-construction-6372/
SEQUENCE:0
END:VEVENT
END:VCALENDAR
