BEGIN:VCALENDAR
METHOD:PUBLISH
VERSION:2.0
CALSCALE:GREGORIAN
BEGIN:VTIMEZONE
TZID:Europe/Paris
BEGIN:DAYLIGHT
TZOFFSETFROM:+0100
RRULE:FREQ=YEARLY;BYMONTH=3;BYDAY=-1SU
DTSTART:19810329T020000
TZNAME:UTC+2
TZOFFSETTO:+0200
END:DAYLIGHT
BEGIN:STANDARD
TZOFFSETFROM:+0200
RRULE:FREQ=YEARLY;BYMONTH=10;BYDAY=-1SU
DTSTART:19961027T030000
TZNAME:UTC+1
TZOFFSETTO:+0100
END:STANDARD
END:VTIMEZONE
BEGIN:VEVENT
UID:6229
DTSTART;TZID=Europe/Paris:20251120T093000
DTEND;TZID=Europe/Paris:20251120T113000
DTSTAMP;TZID=Europe/Paris:20260424T133924
LOCATION:Meudon
SUMMARY:Smart City - Visite du Showroom Sogetrel et témoignages inspirants sur la ville connectée 🌐
DESCRIPTION:Participez à une matinée exceptionnelle autour de la Smart City avec Elles Bougent au sein du Showroom du Groupe Sogetrel ! Le 20 novembre, à l'occasion de la Semaine de l'Industrie, nous ouvrons les portes de notre site de Meudon pour une immersion...
URL;VALUE=URI:https://www.ellesbougent.com/agenda/calendrier/smart-city-visite-du-showroom-sogetrel-et-temoignages-inspirants-sur-la-ville-connectee-6229/
SEQUENCE:0
END:VEVENT
END:VCALENDAR
