BEGIN:VCALENDAR
METHOD:PUBLISH
VERSION:2.0
CALSCALE:GREGORIAN
BEGIN:VTIMEZONE
TZID:Europe/Paris
BEGIN:DAYLIGHT
TZOFFSETFROM:+0100
RRULE:FREQ=YEARLY;BYMONTH=3;BYDAY=-1SU
DTSTART:19810329T020000
TZNAME:UTC+2
TZOFFSETTO:+0200
END:DAYLIGHT
BEGIN:STANDARD
TZOFFSETFROM:+0200
RRULE:FREQ=YEARLY;BYMONTH=10;BYDAY=-1SU
DTSTART:19961027T030000
TZNAME:UTC+1
TZOFFSETTO:+0100
END:STANDARD
END:VTIMEZONE
BEGIN:VEVENT
UID:6147
DTSTART;TZID=Europe/Paris:20251120T140000
DTEND;TZID=Europe/Paris:20251120T170000
DTSTAMP;TZID=Europe/Paris:20260424T133551
LOCATION:Lanester
SUMMARY:Smart city - Visite du chantier "Shooting House" à la base FUSCO
DESCRIPTION:SPIE Building Solutions vous propose de venir visiter le chantier du "Shooting House" (centre d'entraînement immersif) à la base FUSCO de Lanester. Vous y découvrirez les métiers du smartbuilding (CVC et Electricité) et de la performance énergétique des...
URL;VALUE=URI:https://www.ellesbougent.com/agenda/calendrier/smart-city-visite-du-chantier-shooting-house-a-la-base-fusco-6147/
SEQUENCE:0
END:VEVENT
END:VCALENDAR
