BEGIN:VCALENDAR
METHOD:PUBLISH
VERSION:2.0
CALSCALE:GREGORIAN
BEGIN:VTIMEZONE
TZID:Europe/Paris
BEGIN:DAYLIGHT
TZOFFSETFROM:+0100
RRULE:FREQ=YEARLY;BYMONTH=3;BYDAY=-1SU
DTSTART:19810329T020000
TZNAME:UTC+2
TZOFFSETTO:+0200
END:DAYLIGHT
BEGIN:STANDARD
TZOFFSETFROM:+0200
RRULE:FREQ=YEARLY;BYMONTH=10;BYDAY=-1SU
DTSTART:19961027T030000
TZNAME:UTC+1
TZOFFSETTO:+0100
END:STANDARD
END:VTIMEZONE
BEGIN:VEVENT
UID:6290
DTSTART;TZID=Europe/Paris:20251120T090000
DTEND;TZID=Europe/Paris:20251120T120000
DTSTAMP;TZID=Europe/Paris:20260424T131741
LOCATION:PARIS
SUMMARY:Smart City - Visite des Ateliers Championnet
DESCRIPTION:Les Ateliers Championnet, ouverts en 1882, sont un site industriel historique de la RATP situé dans le 18ᵉ arrondissement de Paris. Spécialisés dans la maintenance des bus, ils regroupent plusieurs activités : mécanique, carrosserie, peinture,...
URL;VALUE=URI:https://www.ellesbougent.com/agenda/calendrier/smart-city-visite-des-ateliers-championnet-6290/
SEQUENCE:0
END:VEVENT
END:VCALENDAR
