BEGIN:VCALENDAR
METHOD:PUBLISH
VERSION:2.0
CALSCALE:GREGORIAN
BEGIN:VTIMEZONE
TZID:Europe/Paris
BEGIN:DAYLIGHT
TZOFFSETFROM:+0100
RRULE:FREQ=YEARLY;BYMONTH=3;BYDAY=-1SU
DTSTART:19810329T020000
TZNAME:UTC+2
TZOFFSETTO:+0200
END:DAYLIGHT
BEGIN:STANDARD
TZOFFSETFROM:+0200
RRULE:FREQ=YEARLY;BYMONTH=10;BYDAY=-1SU
DTSTART:19961027T030000
TZNAME:UTC+1
TZOFFSETTO:+0100
END:STANDARD
END:VTIMEZONE
BEGIN:VEVENT
UID:6222
DTSTART;TZID=Europe/Paris:20251120T133000
DTEND;TZID=Europe/Paris:20251120T163000
DTSTAMP;TZID=Europe/Paris:20260424T133857
LOCATION:Magny les hameaux
SUMMARY:Smart City - Visite de Colas Le Lab et CORE Center – Rencontre avec les marraines Elles bougent
DESCRIPTION:Visite de Colas Le Lab – Rencontre avec les marraines Elles bougent et collaboratrices autour de la Smart City Dans le cadre de la Semaine de l'Industrie 2025, l'association Elles bougent et Colas organisent une journée spéciale le 20 novembre, dédiée à la...
URL;VALUE=URI:https://www.ellesbougent.com/agenda/calendrier/smart-city-visite-de-colas-le-lab-et-core-center-rencontre-avec-les-marraines-elles-bougent-6222/
SEQUENCE:0
END:VEVENT
END:VCALENDAR
