BEGIN:VCALENDAR
METHOD:PUBLISH
VERSION:2.0
CALSCALE:GREGORIAN
BEGIN:VTIMEZONE
TZID:Europe/Paris
BEGIN:DAYLIGHT
TZOFFSETFROM:+0100
RRULE:FREQ=YEARLY;BYMONTH=3;BYDAY=-1SU
DTSTART:19810329T020000
TZNAME:UTC+2
TZOFFSETTO:+0200
END:DAYLIGHT
BEGIN:STANDARD
TZOFFSETFROM:+0200
RRULE:FREQ=YEARLY;BYMONTH=10;BYDAY=-1SU
DTSTART:19961027T030000
TZNAME:UTC+1
TZOFFSETTO:+0100
END:STANDARD
END:VTIMEZONE
BEGIN:VEVENT
UID:6018
DTSTART;TZID=Europe/Paris:20251120T140000
DTEND;TZID=Europe/Paris:20251120T163000
DTSTAMP;TZID=Europe/Paris:20260424T133415
LOCATION:VANDOEUVRE
SUMMARY:Smart City - Visite de chantier d'une opération de construction neuve de 30 logements dit "passifs "
DESCRIPTION:Accueilles par des marraines Elles Bougent de la société, ingénieures ou architectes, les collégiennes (classe de 4eme /3 eme) ou lycéennes (classe de seconde) seront reçues sur le chantier de construction de 30 logements qui a la particulatité d'être un chantier à très faible consommation d'énergie dit "passif " avec des normes de construction très innovantes.
URL;VALUE=URI:https://www.ellesbougent.com/agenda/calendrier/smart-city-visite-de-chantier-une-operation-de-construction-neuve-de-30-logements-dit-passifs-6018/
SEQUENCE:0
END:VEVENT
END:VCALENDAR
