BEGIN:VCALENDAR
METHOD:PUBLISH
VERSION:2.0
CALSCALE:GREGORIAN
BEGIN:VTIMEZONE
TZID:Europe/Paris
BEGIN:DAYLIGHT
TZOFFSETFROM:+0100
RRULE:FREQ=YEARLY;BYMONTH=3;BYDAY=-1SU
DTSTART:19810329T020000
TZNAME:UTC+2
TZOFFSETTO:+0200
END:DAYLIGHT
BEGIN:STANDARD
TZOFFSETFROM:+0200
RRULE:FREQ=YEARLY;BYMONTH=10;BYDAY=-1SU
DTSTART:19961027T030000
TZNAME:UTC+1
TZOFFSETTO:+0100
END:STANDARD
END:VTIMEZONE
BEGIN:VEVENT
UID:6129
DTSTART;TZID=Europe/Paris:20251120T133000
DTEND;TZID=Europe/Paris:20251120T170000
DTSTAMP;TZID=Europe/Paris:20260424T133552
LOCATION:Petite-Forêt
SUMMARY:Smart City - Visite ALSTOM - Rencontre de marraines inspirantes
DESCRIPTION:Alstom est un acteur clé de la mobilité en France et un partenaire majeur des agglomérations, des régions françaises et des opérateurs tels que SNCF et RATP. Alstom développe et commercialise la gamme la plus complète de systèmes, d'équipements et de...
URL;VALUE=URI:https://www.ellesbougent.com/agenda/calendrier/smart-city-visite-alstom-rencontre-de-marraines-inspirantes-6129/
SEQUENCE:0
END:VEVENT
END:VCALENDAR
