BEGIN:VCALENDAR
METHOD:PUBLISH
VERSION:2.0
CALSCALE:GREGORIAN
BEGIN:VTIMEZONE
TZID:Europe/Paris
BEGIN:DAYLIGHT
TZOFFSETFROM:+0100
RRULE:FREQ=YEARLY;BYMONTH=3;BYDAY=-1SU
DTSTART:19810329T020000
TZNAME:UTC+2
TZOFFSETTO:+0200
END:DAYLIGHT
BEGIN:STANDARD
TZOFFSETFROM:+0200
RRULE:FREQ=YEARLY;BYMONTH=10;BYDAY=-1SU
DTSTART:19961027T030000
TZNAME:UTC+1
TZOFFSETTO:+0100
END:STANDARD
END:VTIMEZONE
BEGIN:VEVENT
UID:6267
DTSTART;TZID=Europe/Paris:20251120T090000
DTEND;TZID=Europe/Paris:20251120T120000
DTSTAMP;TZID=Europe/Paris:20260424T133924
LOCATION:Hagondange
SUMMARY:Smart City - Viens découvrir les coulisses de l’industrie avec TRIGO chez Stellantis Trémery !
DESCRIPTION:Tu t'es déjà demandé comment on fabrique une voiture et surtout comment on s'assure qu'elle est fiable, sûre et de qualité ?Avec TRIGO, tu vas plonger au cœur de la qualité industrielle, un domaine passionnant où chaque détail compte. 👉 TRIGO...
URL;VALUE=URI:https://www.ellesbougent.com/agenda/calendrier/smart-city-viens-decouvrir-les-coulisses-de-industrie-avec-trigo-chez-stellantis-tremery-6267/
SEQUENCE:0
END:VEVENT
END:VCALENDAR
