BEGIN:VCALENDAR
METHOD:PUBLISH
VERSION:2.0
CALSCALE:GREGORIAN
BEGIN:VTIMEZONE
TZID:Europe/Paris
BEGIN:DAYLIGHT
TZOFFSETFROM:+0100
RRULE:FREQ=YEARLY;BYMONTH=3;BYDAY=-1SU
DTSTART:19810329T020000
TZNAME:UTC+2
TZOFFSETTO:+0200
END:DAYLIGHT
BEGIN:STANDARD
TZOFFSETFROM:+0200
RRULE:FREQ=YEARLY;BYMONTH=10;BYDAY=-1SU
DTSTART:19961027T030000
TZNAME:UTC+1
TZOFFSETTO:+0100
END:STANDARD
END:VTIMEZONE
BEGIN:VEVENT
UID:6084
DTSTART;TZID=Europe/Paris:20251120T093000
DTEND;TZID=Europe/Paris:20251120T150000
DTSTAMP;TZID=Europe/Paris:20260424T134159
LOCATION:Saint-Alban (31)
SUMMARY:Smart City - Venez découvrir les coulisses de l'usine de production et du laboratoire R&D de MAPEI France dans le nord de Toulouse !
DESCRIPTION:Dans le cadre de la semaine de l'industrie, MAPEI France, fabricant de produits chimiques pour l'industrie du bâtiment ouvre ses portes le Jeudi 20 novembre de 9h30 à 15h et aura le plaisir d'accueillir 10 collégiennes ou lycéennes. Vous aurez l'opportunité de...
URL;VALUE=URI:https://www.ellesbougent.com/agenda/calendrier/smart-city-venez-decouvrir-les-coulisses-de-usine-de-production-et-du-laboratoire-r-d-de-mapei-france-dans-le-nord-de-toulouse-6084/
SEQUENCE:0
END:VEVENT
END:VCALENDAR
